BEGIN:VCALENDAR
VERSION:2.0
PRODID:Events Booking
BEGIN:VEVENT
UID:69e50f6590670
SUMMARY:64th Annual PTCOG Confrence
DESCRIPTION:
 
 
 
 Dear Colleagues\,
 On behalf of the PTCOG Executiv
 e Committee and the Local Organizing Committee\, it is our great pleasure 
 to invite you to Deauville\, Normandy\, France\, for the 64th Annual Confe
 rence of the Particle Therapy Cooperative Group (PTCOG 64)\, taking place 
 from 8–13 June 2026.
 Deauville\, nestled along the historic and scenic
  Normandy coast\, offers an inspiring setting to connect\, collaborate\, a
 nd continue to push the boundaries in the field of particle therapy. Known
  for its seaside charm and rich cultural heritage\, this iconic French tow
 n will provide a warm and engaging backdrop for our global community.
 Ou
 r theme\, “Waves of Innovation: Advancing Particle Therapy Together\,”
  celebrates the dynamic progress in our field and the shared efforts drivi
 ng its future. With exciting developments in technology\, clinical applica
 tions\, biology\, and global access\, this conference will explore breakth
 roughs and shape the next chapter in particle therapy.
 Not breaking with
  tradition PTCOG 64 will feature two days of educational programming\, fol
 lowed by three days of scientific sessions\, highlighting the latest resea
 rch\, clinical case studies\, and strategic discussions across all discipl
 ines of particle therapy. We continue to prioritize the inclusion of early
 -career researchers (ECR)\, diverse regional perspectives\, and strong eng
 agement from our Sub-Committees community.
 Whether you are a seasoned ex
 pert or new to the field\, we invite you to join us in Deauville for a wee
 k of knowledge exchange\, professional growth\, and unforgettable experien
 ces in one of France’s most picturesque locales.
 We look forward to we
 lcoming you to Deauville\, Normandy for PTCOG 64!
 More information :&nbs
 p\;https://ptcog64.org/
 
 
 
 
LOCATION:1 Rue Lucien Barrière\, 14800 Deauville\, France
DTSTART:20260607T220000Z
DTEND:20260612T220000Z
DTSTAMP:20251008T074320Z
ORGANIZER;CN=Société Française de radiothérapie Oncologique :MAILTO:sec
 retariat@sfro.fr
GEO:49.360535;0.068299
X-APPLE-STRUCTURED-LOCATION;VALUE=URI;X-ADDRESS=1 Rue Lucien Barrière\, 14
 800 Deauville\, France;X-APPLE-RADIUS=72;X-TITLE=Palais des Congrès de De
 auville:49.360535;0.068299
END:VEVENT
END:VCALENDAR